BEGIN:VCALENDAR
VERSION:2.0
PRODID:-//104.152.168.27//NONSGML kigkonsult.se iCalcreator 2.20//
CALSCALE:GREGORIAN
METHOD:PUBLISH
X-WR-TIMEZONE:Asia/Tokyo
BEGIN:VEVENT
UID:event34346@Tokyo Gig Guide
DTSTAMP:20260421T083228Z
CATEGORIES:Pop-punk\, Power Pop\, Punk
DESCRIPTION:GOOD PERV KID\, Fine\, Great\, MEGA X\, STAY FOR WELL\, MY SHOE
 S MY CAP\nCategory: Pop-punk\, Power Pop\, Punk\nLink: https://www.tokyogi
 gguide.com/index.php?option=com_jem&view=event&id=34346:good-perv-kid-fine
 -great-mega-x-stay-for-well-my-shoes-my-cap&Itemid=1094\n
DTSTART:20250211T160000
DTEND:20250211T160000
LOCATION:Buzzfront\,Yokohama\, Nishi Ward\, Kitasaiwai\, 2 Chome−7−10 B1\,Y
 okohama
SUMMARY:GOOD PERV KID\, Fine\, Great\, MEGA X\, STAY FOR WELL\, MY SHOES MY
  CAP
URL:https://www.tokyogigguide.com/index.php?option=com_jem&view=event&id=34
 346:good-perv-kid-fine-great-mega-x-stay-for-well-my-shoes-my-cap&Itemid=1
 094
END:VEVENT
END:VCALENDAR
