BEGIN:VCALENDAR
VERSION:2.0
PRODID:-//104.152.168.27//NONSGML kigkonsult.se iCalcreator 2.20//
CALSCALE:GREGORIAN
METHOD:PUBLISH
X-WR-TIMEZONE:Asia/Tokyo
BEGIN:VEVENT
UID:event34209@Tokyo Gig Guide
DTSTAMP:20260425T112637Z
CATEGORIES:Shoegaze\, Dream-pop\, Alternative
DESCRIPTION:Tokyo Shoegazer (東京酒吐座) x RAY\nCategory: Shoegaze\, Dream-pop\,
  Alternative\nLink: https://www.tokyogigguide.com/index.php?option=com_jem
 &view=event&id=34209:tokyo-shoegazer-x-ray&Itemid=1094\n
DTSTART:20250122T181500
DTEND:20250122T181500
LOCATION:WWW X\,2F Rise Bldg\, 13-17 Udagawacho\, Shibuya-ku\,Shibuya
SUMMARY:Tokyo Shoegazer (東京酒吐座) x RAY
URL:https://www.tokyogigguide.com/index.php?option=com_jem&view=event&id=34
 209:tokyo-shoegazer-x-ray&Itemid=1094
END:VEVENT
END:VCALENDAR
