BEGIN:VCALENDAR
VERSION:2.0
PRODID:-//104.152.168.27//NONSGML kigkonsult.se iCalcreator 2.20//
CALSCALE:GREGORIAN
METHOD:PUBLISH
X-WR-TIMEZONE:Asia/Tokyo
BEGIN:VEVENT
UID:event34003@Tokyo Gig Guide
DTSTAMP:20260423T020633Z
CATEGORIES:Improvised\, Indie-Rock\, Rock\, Soul
DESCRIPTION:山口 洋 X モーガン フィッシャー ライヴ＆トークショー (HIROSHI YAMAGUCHI (HEATWAVE) + M
 ORGAN FISHER Live/Talk Show) DAY 1 OF 2\nCategory: Improvised\, Indie-Rock
 \, Rock\, Soul\nLink: https://www.tokyogigguide.com/index.php?option=com_j
 em&view=event&id=34003:x-hiroshi-yamaguchi-heatwave-morgan-fisher-live-tal
 k-show-day-1-of-2&Itemid=1094\n
DTSTART:20250104T190000
DTEND:20250104T190000
LOCATION:Morgan Salon (CLOSED DOWN)
SUMMARY:山口 洋 X モーガン フィッシャー ライヴ＆トークショー (HIROSHI YAMAGUCHI (HEATWAVE) + MORGA
 N FISHER Live/Talk Show) DAY 1 OF 2
URL:https://www.tokyogigguide.com/index.php?option=com_jem&view=event&id=34
 003:x-hiroshi-yamaguchi-heatwave-morgan-fisher-live-talk-show-day-1-of-2&I
 temid=1094
END:VEVENT
END:VCALENDAR
