BEGIN:VCALENDAR
VERSION:2.0
PRODID:-//104.152.168.27//NONSGML kigkonsult.se iCalcreator 2.20//
CALSCALE:GREGORIAN
METHOD:PUBLISH
X-WR-TIMEZONE:Asia/Tokyo
BEGIN:VEVENT
UID:event3375@Tokyo Gig Guide
DTSTAMP:20260422T170124Z
CATEGORIES:Electro-Pop
DESCRIPTION:Bad Noise! Feat. risu\, DadaD + akina\nCategory: Electro-Pop\nL
 ink: https://www.tokyogigguide.com/index.php?option=com_jem&view=event&id=
 3375:bad-noise-feat-risu-dadad--akina&Itemid=1094\n
DTSTART:20100828T193000
DTEND:20100828T193000
LOCATION:Ruby Room\,2F Kasumi Bldg\, Dogenzaka 2-25-17\, Shibuya\,Shibuya
SUMMARY:Bad Noise! Feat. risu\, DadaD + akina
URL:https://www.tokyogigguide.com/index.php?option=com_jem&view=event&id=33
 75:bad-noise-feat-risu-dadad--akina&Itemid=1094
END:VEVENT
END:VCALENDAR
