BEGIN:VCALENDAR
VERSION:2.0
PRODID:-//104.152.168.27//NONSGML kigkonsult.se iCalcreator 2.20//
CALSCALE:GREGORIAN
METHOD:PUBLISH
X-WR-TIMEZONE:Asia/Tokyo
BEGIN:VEVENT
UID:event33717@Tokyo Gig Guide
DTSTAMP:20260421T203659Z
CATEGORIES:Funk\, Indie-Rock\, Jazz\, Psychedelic\, Shoegaze
DESCRIPTION:DEEPCOUNT\, NOISECONCRETE × 3CHI5\, Mick & New Living Dead [Mic
 k (vo)\, TOMO (hurdy gurdy)\, Mitsuru Tabata (guitar)]\nCategory: Funk\, I
 ndie-Rock\, Jazz\, Psychedelic\, Shoegaze\nLink: https://www.tokyogigguide
 .com/index.php?option=com_jem&view=event&id=33717:deepcount-noiseconcrete-
 3chi5-mick-new-living-dead-mick-vo-tomo-hurdy-gurdy-mitsuru-tabata-guitar&
 Itemid=1094\n
DTSTART:20241122T190000
DTEND:20241122T190000
LOCATION:Showboat\,Oak Hill Koenji B1F\, 3-17-2 Koenji Kita\,Koenji
SUMMARY:DEEPCOUNT\, NOISECONCRETE × 3CHI5\, Mick & New Living Dead [Mick (v
 o)\, TOMO (hurdy gurdy)\, Mitsuru Tabata (guitar)]
URL:https://www.tokyogigguide.com/index.php?option=com_jem&view=event&id=33
 717:deepcount-noiseconcrete-3chi5-mick-new-living-dead-mick-vo-tomo-hurdy-
 gurdy-mitsuru-tabata-guitar&Itemid=1094
END:VEVENT
END:VCALENDAR
