BEGIN:VCALENDAR
VERSION:2.0
PRODID:-//104.152.168.27//NONSGML kigkonsult.se iCalcreator 2.20//
CALSCALE:GREGORIAN
METHOD:PUBLISH
X-WR-TIMEZONE:Asia/Tokyo
BEGIN:VEVENT
UID:event33650@Tokyo Gig Guide
DTSTAMP:20260421T022525Z
CATEGORIES:Avant garde\, Improvised\, Free Jazz\, Experimental\, Rock
DESCRIPTION:Hoiming vol.27: Hoimi\, Goizon\, Magmatron\nCategory: Avant gar
 de\, Improvised\, Free Jazz\, Experimental\, Rock\nLink: https://www.tokyo
 gigguide.com/index.php?option=com_jem&view=event&id=33650:hoiming-vol-27-h
 oimi-goizon-magmatron&Itemid=1094\n
DTSTART:20241219T190000
DTEND:20241219T190000
LOCATION:Ten (天)\,Asagaya-kita 2-1-5 B1F\,Asagaya
SUMMARY:Hoiming vol.27: Hoimi\, Goizon\, Magmatron
URL:https://www.tokyogigguide.com/index.php?option=com_jem&view=event&id=33
 650:hoiming-vol-27-hoimi-goizon-magmatron&Itemid=1094
END:VEVENT
END:VCALENDAR
