BEGIN:VCALENDAR
VERSION:2.0
PRODID:-//104.152.168.27//NONSGML kigkonsult.se iCalcreator 2.20//
CALSCALE:GREGORIAN
METHOD:PUBLISH
X-WR-TIMEZONE:Asia/Tokyo
BEGIN:VEVENT
UID:event33642@Tokyo Gig Guide
DTSTAMP:20260424T110530Z
CATEGORIES:Acoustic\, Blues\, Garage Rock\, Punk\, Soul
DESCRIPTION:今西太一\, Mouth to Mouth\, The Gimlet\nCategory: Acoustic\, Blues\
 , Garage Rock\, Punk\, Soul\nLink: https://www.tokyogigguide.com/index.php
 ?option=com_jem&view=event&id=33642:mouth-to-mouth-the-gimlet&Itemid=1094
 \n
DTSTART:20241201T183000
DTEND:20241201T183000
SUMMARY:今西太一\, Mouth to Mouth\, The Gimlet
URL:https://www.tokyogigguide.com/index.php?option=com_jem&view=event&id=33
 642:mouth-to-mouth-the-gimlet&Itemid=1094
END:VEVENT
END:VCALENDAR
