BEGIN:VCALENDAR
VERSION:2.0
PRODID:-//104.152.168.27//NONSGML kigkonsult.se iCalcreator 2.20//
CALSCALE:GREGORIAN
METHOD:PUBLISH
X-WR-TIMEZONE:Asia/Tokyo
BEGIN:VEVENT
UID:event33588@Tokyo Gig Guide
DTSTAMP:20260420T020503Z
CATEGORIES:Alternative\, Post-Rock\, Progressive\, Shoegaze
DESCRIPTION:kehre.\nCategory: Alternative\, Post-Rock\, Progressive\, Shoeg
 aze\nLink: https://www.tokyogigguide.com/index.php?option=com_jem&view=eve
 nt&id=33588:kehre&Itemid=1094\n
DTSTART:20250223T180000
DTEND:20250223T180000
LOCATION:真昼の月夜の太陽 (Mahiru no Tsuki Yoru no Taiyo)\,ShinjukuOkubo2-6-16-B1\,
 Shinjuku
SUMMARY:kehre.
URL:https://www.tokyogigguide.com/index.php?option=com_jem&view=event&id=33
 588:kehre&Itemid=1094
END:VEVENT
END:VCALENDAR
