BEGIN:VCALENDAR
VERSION:2.0
PRODID:-//104.152.168.27//NONSGML kigkonsult.se iCalcreator 2.20//
CALSCALE:GREGORIAN
METHOD:PUBLISH
X-WR-TIMEZONE:Asia/Tokyo
BEGIN:VEVENT
UID:event33551@Tokyo Gig Guide
DTSTAMP:20260421T233756Z
CATEGORIES:Blues\, Improvised\, Minimal
DESCRIPTION:Philippe Lauzier\, Éric Normand\, Naoto Yamagishi\, Takashi Mas
 ubuchi\nCategory: Blues\, Improvised\, Minimal\nLink: https://www.tokyogig
 guide.com/index.php?option=com_jem&view=event&id=33551:philippe-lauzier-er
 ic-normand-naoto-yamagishi-takashi-masubuchi&Itemid=1094\n
DTSTART:20241108T193000
DTEND:20241108T193000
LOCATION:Nanahari\,Oriental Bldg. B1\, 2-7-1 Shinkawa\, Chuo-ku\,Hatchobori
SUMMARY:Philippe Lauzier\, Éric Normand\, Naoto Yamagishi\, Takashi Masubuc
 hi
URL:https://www.tokyogigguide.com/index.php?option=com_jem&view=event&id=33
 551:philippe-lauzier-eric-normand-naoto-yamagishi-takashi-masubuchi&Itemid
 =1094
END:VEVENT
END:VCALENDAR
