BEGIN:VCALENDAR
VERSION:2.0
PRODID:-//104.152.168.27//NONSGML kigkonsult.se iCalcreator 2.20//
CALSCALE:GREGORIAN
METHOD:PUBLISH
X-WR-TIMEZONE:Asia/Tokyo
BEGIN:VEVENT
UID:event33534@Tokyo Gig Guide
DTSTAMP:20260423T203145Z
CATEGORIES:Alternative\, Blues\, Experimental
DESCRIPTION:Yaku Hajime(vo\,g) + Yokoyama Tomoki(b)\nCategory: Alternative\
 , Blues\, Experimental\nLink: https://www.tokyogigguide.com/index.php?opti
 on=com_jem&view=event&id=33534:yaku-hajime-vo-g-yokoyama-tomoki-b&Itemid=1
 094\n
DTSTART;VALUE=DATE:20241103
DTEND;VALUE=DATE:20241104
LOCATION:Borderline\,3-142 Noge\, Nakaku\, Yokohama\,Noge
SUMMARY:Yaku Hajime(vo\,g) + Yokoyama Tomoki(b)
URL:https://www.tokyogigguide.com/index.php?option=com_jem&view=event&id=33
 534:yaku-hajime-vo-g-yokoyama-tomoki-b&Itemid=1094
END:VEVENT
END:VCALENDAR
