BEGIN:VCALENDAR
VERSION:2.0
PRODID:-//104.152.168.27//NONSGML kigkonsult.se iCalcreator 2.20//
CALSCALE:GREGORIAN
METHOD:PUBLISH
X-WR-TIMEZONE:Asia/Tokyo
BEGIN:VEVENT
UID:event33422@Tokyo Gig Guide
DTSTAMP:20260423T205309Z
CATEGORIES:Blues\, DJ\, Jam\, Jazz\, Rock
DESCRIPTION:Daoud Akira\, 大久保\, /NICHOLAS GAZIN\nCategory: Blues\, DJ\, Jam
 \, Jazz\, Rock\nLink: https://www.tokyogigguide.com/index.php?option=com_j
 em&view=event&id=33422:daoud-akira-nicholas-gazin&Itemid=1094\n
DTSTART:20241029T190000
DTEND:20241029T190000
LOCATION:Tsubame Studio 3F\,3F\, 13-2 NIHOMBASHI-KODENMACHO\, CHUO-KU\,Kode
 nmacho
SUMMARY:Daoud Akira\, 大久保\, /NICHOLAS GAZIN
URL:https://www.tokyogigguide.com/index.php?option=com_jem&view=event&id=33
 422:daoud-akira-nicholas-gazin&Itemid=1094
END:VEVENT
END:VCALENDAR
