BEGIN:VCALENDAR
VERSION:2.0
PRODID:-//104.152.168.27//NONSGML kigkonsult.se iCalcreator 2.20//
CALSCALE:GREGORIAN
METHOD:PUBLISH
X-WR-TIMEZONE:Asia/Tokyo
BEGIN:VEVENT
UID:event33161@Tokyo Gig Guide
DTSTAMP:20260422T022659Z
CATEGORIES:Acoustic\, Emo\, Electronic Rock\, Blues\, Alternative
DESCRIPTION:Sleepwalker's Station (from Germany)\, Sam Brothers (from the U
 K)\, 天田優子\, シンゴマエダ (birds melt sky)\, 1000say\nCategory: Acoustic\, Emo\, 
 Electronic Rock\, Blues\, Alternative\nLink: https://www.tokyogigguide.com
 /index.php?option=com_jem&view=event&id=33161:sleepwalker-s-station-from-g
 ermany-sam-brothers-from-the-uk-birds-melt-sky-1000say&Itemid=1094\n
DTSTART:20241008T190000
DTEND:20241008T190000
LOCATION:crotchet cafe\,1-1-13 Motomanuma\, Suginami-ku\, Tokyo\,Asagaya
SUMMARY:Sleepwalker's Station (from Germany)\, Sam Brothers (from the UK)\,
  天田優子\, シンゴマエダ (birds melt sky)\, 1000say
URL:https://www.tokyogigguide.com/index.php?option=com_jem&view=event&id=33
 161:sleepwalker-s-station-from-germany-sam-brothers-from-the-uk-birds-melt
 -sky-1000say&Itemid=1094
END:VEVENT
END:VCALENDAR
