BEGIN:VCALENDAR
VERSION:2.0
PRODID:-//104.152.168.27//NONSGML kigkonsult.se iCalcreator 2.20//
CALSCALE:GREGORIAN
METHOD:PUBLISH
X-WR-TIMEZONE:Asia/Tokyo
BEGIN:VEVENT
UID:event33091@Tokyo Gig Guide
DTSTAMP:20260420T165339Z
CATEGORIES:Blues\, Funk\, Jam\, Open Mic\, Soul
DESCRIPTION:Open Jam Session\nCategory: Blues\, Funk\, Jam\, Open Mic\, Sou
 l\nLink: https://www.tokyogigguide.com/index.php?option=com_jem&view=event
 &id=33091:open-jam-session&Itemid=1094\n
DTSTART:20241012T190000
DTEND:20241012T190000
LOCATION:Love\, Peace and Soul Live Cafe\,Parfum Kyodo B1-C 1-5-6 Kyodo\, S
 etagaya-ku\, Tokyo\,Kyodo
SUMMARY:Open Jam Session
URL:https://www.tokyogigguide.com/index.php?option=com_jem&view=event&id=33
 091:open-jam-session&Itemid=1094
END:VEVENT
END:VCALENDAR
