BEGIN:VCALENDAR
VERSION:2.0
PRODID:-//104.152.168.27//NONSGML kigkonsult.se iCalcreator 2.20//
CALSCALE:GREGORIAN
METHOD:PUBLISH
X-WR-TIMEZONE:Asia/Tokyo
BEGIN:VEVENT
UID:event33037@Tokyo Gig Guide
DTSTAMP:20260422T134810Z
CATEGORIES:Shoegaze\, Indie-Rock\, Hardcore\, Dream-pop\, Alternative
DESCRIPTION:MASS OF THE FERMENTING DREGS\, DEATH OF HEATHER\nCategory: Shoe
 gaze\, Indie-Rock\, Hardcore\, Dream-pop\, Alternative\nLink: https://www.
 tokyogigguide.com/index.php?option=com_jem&view=event&id=33037:mass-of-the
 -fermenting-dregs-death-of-heather&Itemid=1094\n
DTSTART:20241117T170000
DTEND:20241117T170000
LOCATION:Shangri-La\,mosia B1\, 2-4-5 Kitazawa\, Setagaya-ku\,Shimokitazawa
SUMMARY:MASS OF THE FERMENTING DREGS\, DEATH OF HEATHER
URL:https://www.tokyogigguide.com/index.php?option=com_jem&view=event&id=33
 037:mass-of-the-fermenting-dregs-death-of-heather&Itemid=1094
END:VEVENT
END:VCALENDAR
