BEGIN:VCALENDAR
VERSION:2.0
PRODID:-//104.152.168.27//NONSGML kigkonsult.se iCalcreator 2.20//
CALSCALE:GREGORIAN
METHOD:PUBLISH
X-WR-TIMEZONE:Asia/Tokyo
BEGIN:VEVENT
UID:event33015@Tokyo Gig Guide
DTSTAMP:20260422T003049Z
CATEGORIES:Acoustic\, Blues\, Free Jazz\, Jazz
DESCRIPTION:Fuwa Daisuke (b) solo duo + GUEST Tatsumi Mitsuhide (tp)\nCateg
 ory: Acoustic\, Blues\, Free Jazz\, Jazz\nLink: https://www.tokyogigguide.
 com/index.php?option=com_jem&view=event&id=33015:fuwa-daisuke-b-solo-duo-g
 uest-tatsumi-mitsuhide-tp&Itemid=1094\n
DTSTART:20240926T190000
DTEND:20240926T190000
LOCATION:Knuttel House\,4-1-8 Matsugaya\, Taito-ku\, Tokyo\,Iriya
SUMMARY:Fuwa Daisuke (b) solo duo + GUEST Tatsumi Mitsuhide (tp)
URL:https://www.tokyogigguide.com/index.php?option=com_jem&view=event&id=33
 015:fuwa-daisuke-b-solo-duo-guest-tatsumi-mitsuhide-tp&Itemid=1094
END:VEVENT
END:VCALENDAR
