BEGIN:VCALENDAR
VERSION:2.0
PRODID:-//104.152.168.27//NONSGML kigkonsult.se iCalcreator 2.20//
CALSCALE:GREGORIAN
METHOD:PUBLISH
X-WR-TIMEZONE:Asia/Tokyo
BEGIN:VEVENT
UID:event32976@Tokyo Gig Guide
DTSTAMP:20260420T025841Z
CATEGORIES:Acoustic\, Alternative\, Blues\, Rock n Roll
DESCRIPTION:浮 (guitar\, vo)\, 高橋佑成 (piano\, electronics)\nCategory: Acousti
 c\, Alternative\, Blues\, Rock n Roll\nLink: https://www.tokyogigguide.com
 /index.php?option=com_jem&view=event&id=32976:guitar-vo-piano-electronics&
 Itemid=1094\n
DTSTART:20241001T193000
DTEND:20241001T193000
LOCATION:POLARIS\,6-2-10 Minami-Aoyama\, Minato-ku\, Tokyo\,Minami-Aoyama
SUMMARY:浮 (guitar\, vo)\, 高橋佑成 (piano\, electronics)
URL:https://www.tokyogigguide.com/index.php?option=com_jem&view=event&id=32
 976:guitar-vo-piano-electronics&Itemid=1094
END:VEVENT
END:VCALENDAR
