BEGIN:VCALENDAR
VERSION:2.0
PRODID:-//104.152.168.27//NONSGML kigkonsult.se iCalcreator 2.20//
CALSCALE:GREGORIAN
METHOD:PUBLISH
X-WR-TIMEZONE:Asia/Tokyo
BEGIN:VEVENT
UID:event32972@Tokyo Gig Guide
DTSTAMP:20260420T161903Z
CATEGORIES:All Mix\, Electro\, Instrumental\, Jam\, Jazz
DESCRIPTION:タワケモノ (TAWAKEMONO)\nCategory: All Mix\, Electro\, Instrumental\
 , Jam\, Jazz\nLink: https://www.tokyogigguide.com/index.php?option=com_jem
 &view=event&id=32972:tawakemono&Itemid=1094\n
DTSTART:20241006T190000
DTEND:20241006T190000
LOCATION:Jazz Bar Amber (琥珀)\,17-1 Brother Building 6F\, Udagawacho\,Shibuy
 a
SUMMARY:タワケモノ (TAWAKEMONO)
URL:https://www.tokyogigguide.com/index.php?option=com_jem&view=event&id=32
 972:tawakemono&Itemid=1094
END:VEVENT
END:VCALENDAR
