BEGIN:VCALENDAR
VERSION:2.0
PRODID:-//104.152.168.27//NONSGML kigkonsult.se iCalcreator 2.20//
CALSCALE:GREGORIAN
METHOD:PUBLISH
X-WR-TIMEZONE:Asia/Tokyo
BEGIN:VEVENT
UID:event32888@Tokyo Gig Guide
DTSTAMP:20260425T000043Z
CATEGORIES:Ambient\, Experimental\, Noise
DESCRIPTION:MYRIA IDHA\, iwamaki\, Alminium\, Mayu Amano\, 34423\nCategory:
  Ambient\, Experimental\, Noise\nLink: https://www.tokyogigguide.com/index
 .php?option=com_jem&view=event&id=32888:myria-idha-iwamaki-alminium-mayu-a
 mano-34423&Itemid=1094\n
DTSTART:20240920T190000
DTEND:20240920T190000
LOCATION:SPREAD\,2-12-6 Kitazawa\, Setagaya-ku\, Tokyo\,Shimokitazawa
SUMMARY:MYRIA IDHA\, iwamaki\, Alminium\, Mayu Amano\, 34423
URL:https://www.tokyogigguide.com/index.php?option=com_jem&view=event&id=32
 888:myria-idha-iwamaki-alminium-mayu-amano-34423&Itemid=1094
END:VEVENT
END:VCALENDAR
