BEGIN:VCALENDAR
VERSION:2.0
PRODID:-//104.152.168.27//NONSGML kigkonsult.se iCalcreator 2.20//
CALSCALE:GREGORIAN
METHOD:PUBLISH
X-WR-TIMEZONE:Asia/Tokyo
BEGIN:VEVENT
UID:event32816@Tokyo Gig Guide
DTSTAMP:20260421T104803Z
CATEGORIES:Jazz
DESCRIPTION:小石栗 (Koishikuri)\nCategory: Jazz\nLink: https://www.tokyogiggui
 de.com/index.php?option=com_jem&view=event&id=32816:koishikuri&Itemid=1094
 \n
DTSTART:20240905T190000
DTEND:20240905T190000
LOCATION:Sweet Rain\,Okada Bldg. B1\, 5-46-5　Nakano\, Nakano-ku\, Tokyo\,Na
 kano
SUMMARY:小石栗 (Koishikuri)
URL:https://www.tokyogigguide.com/index.php?option=com_jem&view=event&id=32
 816:koishikuri&Itemid=1094
END:VEVENT
END:VCALENDAR
