BEGIN:VCALENDAR
VERSION:2.0
PRODID:-//104.152.168.27//NONSGML kigkonsult.se iCalcreator 2.20//
CALSCALE:GREGORIAN
METHOD:PUBLISH
X-WR-TIMEZONE:Asia/Tokyo
BEGIN:VEVENT
UID:event3272@Tokyo Gig Guide
DTSTAMP:20260421T150401Z
CATEGORIES:Improvised
DESCRIPTION:Raed Yassin\, Paed Conca\, Miya Masaoka\, Marcos Fernandes\nCat
 egory: Improvised\nLink: https://www.tokyogigguide.com/index.php?option=co
 m_jem&view=event&id=3272:raed-yassin-paed-conca-miya-masaoka-marcos-fernan
 des&Itemid=1094\n
DTSTART:20100922T190000
DTEND:20100922T190000
LOCATION:Airegin\,5-60 Sumiyoshi-cho\, Naka-ku\, Yokohama\, Kanagawa\,Yokoh
 ama
SUMMARY:Raed Yassin\, Paed Conca\, Miya Masaoka\, Marcos Fernandes
URL:https://www.tokyogigguide.com/index.php?option=com_jem&view=event&id=32
 72:raed-yassin-paed-conca-miya-masaoka-marcos-fernandes&Itemid=1094
END:VEVENT
END:VCALENDAR
