BEGIN:VCALENDAR
VERSION:2.0
PRODID:-//104.152.168.27//NONSGML kigkonsult.se iCalcreator 2.20//
CALSCALE:GREGORIAN
METHOD:PUBLISH
X-WR-TIMEZONE:Asia/Tokyo
BEGIN:VEVENT
UID:event3269@Tokyo Gig Guide
DTSTAMP:20260419T180443Z
CATEGORIES:Experimental
DESCRIPTION:Marcos Fernandes\, Dai Nakamura\, Taku Ito\, Akemi Shoomy  Taku
 \nCategory: Experimental\nLink: https://www.tokyogigguide.com/index.php?op
 tion=com_jem&view=event&id=3269:marcos-fernandes-dai-nakamura-taku-ito-ake
 mi-qshoomyq-taku&Itemid=1094\n
DTSTART:20100828T190000
DTEND:20100828T190000
LOCATION:Airegin\,5-60 Sumiyoshi-cho\, Naka-ku\, Yokohama\, Kanagawa\,Yokoh
 ama
SUMMARY:Marcos Fernandes\, Dai Nakamura\, Taku Ito\, Akemi Shoomy  Taku
URL:https://www.tokyogigguide.com/index.php?option=com_jem&view=event&id=32
 69:marcos-fernandes-dai-nakamura-taku-ito-akemi-qshoomyq-taku&Itemid=1094
END:VEVENT
END:VCALENDAR
