BEGIN:VCALENDAR
VERSION:2.0
PRODID:-//104.152.168.27//NONSGML kigkonsult.se iCalcreator 2.20//
CALSCALE:GREGORIAN
METHOD:PUBLISH
X-WR-TIMEZONE:Asia/Tokyo
BEGIN:VEVENT
UID:event3266@Tokyo Gig Guide
DTSTAMP:20260419T212408Z
CATEGORIES:Improvised
DESCRIPTION:Marcos Fernandes\, Hikaru Iwakawa\, Yuichi Kudo\nCategory: Impr
 ovised\nLink: https://www.tokyogigguide.com/index.php?option=com_jem&view=
 event&id=3266:marcos-fernandes-hikaru-iwakawa-yuichi-kudo&Itemid=1094\n
DTSTART:20100808T150000
DTEND:20100808T150000
LOCATION:Airegin\,5-60 Sumiyoshi-cho\, Naka-ku\, Yokohama\, Kanagawa\,Yokoh
 ama
SUMMARY:Marcos Fernandes\, Hikaru Iwakawa\, Yuichi Kudo
URL:https://www.tokyogigguide.com/index.php?option=com_jem&view=event&id=32
 66:marcos-fernandes-hikaru-iwakawa-yuichi-kudo&Itemid=1094
END:VEVENT
END:VCALENDAR
