BEGIN:VCALENDAR
VERSION:2.0
PRODID:-//104.152.168.27//NONSGML kigkonsult.se iCalcreator 2.20//
CALSCALE:GREGORIAN
METHOD:PUBLISH
X-WR-TIMEZONE:Asia/Tokyo
BEGIN:VEVENT
UID:event3264@Tokyo Gig Guide
DTSTAMP:20260420T225329Z
CATEGORIES:Garage Rock
DESCRIPTION:ED WOODS\, THE FLY\, THEEE BAT\, ANISAKIS\, VIVIAN BOYS\, THE H
 ARPY's\nCategory: Garage Rock\nLink: https://www.tokyogigguide.com/index.p
 hp?option=com_jem&view=event&id=3264:ed-woods-the-fly-theee-bat-anisakis-v
 ivian-boys-the-harpys&Itemid=1094\n
DTSTART:20100905T180000
DTEND:20100905T180000
LOCATION:Heavy Sick\,Nishihara 2-27-4 B1\, Shibuya-ku\,Hatagaya
SUMMARY:ED WOODS\, THE FLY\, THEEE BAT\, ANISAKIS\, VIVIAN BOYS\, THE HARPY
 's
URL:https://www.tokyogigguide.com/index.php?option=com_jem&view=event&id=32
 64:ed-woods-the-fly-theee-bat-anisakis-vivian-boys-the-harpys&Itemid=1094
END:VEVENT
END:VCALENDAR
