BEGIN:VCALENDAR
VERSION:2.0
PRODID:-//104.152.168.27//NONSGML kigkonsult.se iCalcreator 2.20//
CALSCALE:GREGORIAN
METHOD:PUBLISH
X-WR-TIMEZONE:Asia/Tokyo
BEGIN:VEVENT
UID:event32620@Tokyo Gig Guide
DTSTAMP:20260423T231553Z
CATEGORIES:Alternative\, Ambient\, Experimental\, Free Jazz\, Improvised
DESCRIPTION:Masahiro Tobita\, Miki Naoe\, Ryosuke Kano\, tsubatics\nCategor
 y: Alternative\, Ambient\, Experimental\, Free Jazz\, Improvised\nLink: ht
 tps://www.tokyogigguide.com/index.php?option=com_jem&view=event&id=32620:m
 asahiro-tobita-miki-naoe-ryosuke-kano-tsubatics&Itemid=1094\n
DTSTART:20240922T130000
DTEND:20240922T130000
LOCATION:Oriental Force\,#8 Nitto Build. B1\, Koenji-Minami 3-38-6\,Koenji
SUMMARY:Masahiro Tobita\, Miki Naoe\, Ryosuke Kano\, tsubatics
URL:https://www.tokyogigguide.com/index.php?option=com_jem&view=event&id=32
 620:masahiro-tobita-miki-naoe-ryosuke-kano-tsubatics&Itemid=1094
END:VEVENT
END:VCALENDAR
