BEGIN:VCALENDAR
VERSION:2.0
PRODID:-//104.152.168.27//NONSGML kigkonsult.se iCalcreator 2.20//
CALSCALE:GREGORIAN
METHOD:PUBLISH
X-WR-TIMEZONE:Asia/Tokyo
BEGIN:VEVENT
UID:event32610@Tokyo Gig Guide
DTSTAMP:20260420T191426Z
CATEGORIES:Jazz
DESCRIPTION:Taeko Kurita (piano) + Masatake Abe (electric bass) Duo\nCatego
 ry: Jazz\nLink: https://www.tokyogigguide.com/index.php?option=com_jem&vie
 w=event&id=32610:taeko-kurita-piano-masatake-abe-electricbass-duo&Itemid=1
 094\n
DTSTART:20240831T190000
DTEND:20240831T190000
LOCATION:Sweet Rain\,Okada Bldg. B1\, 5-46-5　Nakano\, Nakano-ku\, Tokyo\,Na
 kano
SUMMARY:Taeko Kurita (piano) + Masatake Abe (electric bass) Duo
URL:https://www.tokyogigguide.com/index.php?option=com_jem&view=event&id=32
 610:taeko-kurita-piano-masatake-abe-electricbass-duo&Itemid=1094
END:VEVENT
END:VCALENDAR
