BEGIN:VCALENDAR
VERSION:2.0
PRODID:-//104.152.168.27//NONSGML kigkonsult.se iCalcreator 2.20//
CALSCALE:GREGORIAN
METHOD:PUBLISH
X-WR-TIMEZONE:Asia/Tokyo
BEGIN:VEVENT
UID:event32590@Tokyo Gig Guide
DTSTAMP:20260423T150742Z
CATEGORIES:Classical\, Electronic\, Free Jazz\, Improvised
DESCRIPTION:Yukari Uekawa (植川縁)\, Kanji Nakao (中尾勘二)\, Ryuichi Yoshida (吉田隆
 一)\, Christophe Charles (クリストフ・シャルル)\nCategory: Classical\, Electronic\, F
 ree Jazz\, Improvised\nLink: https://www.tokyogigguide.com/index.php?optio
 n=com_jem&view=event&id=32590:yukari-uekawa-kanji-nakao-ryuichi-yoshida-ch
 ristophe-charles&Itemid=1094\n
DTSTART:20240903T193000
DTEND:20240903T193000
LOCATION:In-F\,3F 3-4-19 higashiooizumi\, nerima-ku\, Tokyo\,Oizumigakuen
SUMMARY:Yukari Uekawa (植川縁)\, Kanji Nakao (中尾勘二)\, Ryuichi Yoshida (吉田隆一)\,
  Christophe Charles (クリストフ・シャルル)
URL:https://www.tokyogigguide.com/index.php?option=com_jem&view=event&id=32
 590:yukari-uekawa-kanji-nakao-ryuichi-yoshida-christophe-charles&Itemid=10
 94
END:VEVENT
END:VCALENDAR
