BEGIN:VCALENDAR
VERSION:2.0
PRODID:-//104.152.168.27//NONSGML kigkonsult.se iCalcreator 2.20//
CALSCALE:GREGORIAN
METHOD:PUBLISH
X-WR-TIMEZONE:Asia/Tokyo
BEGIN:VEVENT
UID:event32402@Tokyo Gig Guide
DTSTAMP:20260425T145051Z
CATEGORIES:Mixed Genre
DESCRIPTION:Shunsuke Suzuki × Fumito Sugo Duo\nCategory: Mixed Genre\nLink:
  https://www.tokyogigguide.com/index.php?option=com_jem&view=event&id=3240
 2:shunsuke-suzuki-fumito-sugo-duo&Itemid=1094\n
DTSTART:20240814T190000
DTEND:20240814T190000
LOCATION:Thelonious\,5-9-1\, Higashi Nakano\, Nakano-ku\,Higashi-Nakano
SUMMARY:Shunsuke Suzuki × Fumito Sugo Duo
URL:https://www.tokyogigguide.com/index.php?option=com_jem&view=event&id=32
 402:shunsuke-suzuki-fumito-sugo-duo&Itemid=1094
END:VEVENT
END:VCALENDAR
