BEGIN:VCALENDAR
VERSION:2.0
PRODID:-//104.152.168.27//NONSGML kigkonsult.se iCalcreator 2.20//
CALSCALE:GREGORIAN
METHOD:PUBLISH
X-WR-TIMEZONE:Asia/Tokyo
BEGIN:VEVENT
UID:event32371@Tokyo Gig Guide
DTSTAMP:20260422T210010Z
CATEGORIES:Improvised
DESCRIPTION:Sammy Jarata\, Improvisation session\nCategory: Improvised\nLin
 k: https://www.tokyogigguide.com/index.php?option=com_jem&view=event&id=32
 371:sammy-jarata-inprovisation-session&Itemid=1094\n
DTSTART:20240831T150000
DTEND:20240831T150000
LOCATION:Apocalypse Now\,Arakawa 1-31-7\, Arakawa-ku\, Tokyo\,Minowa
SUMMARY:Sammy Jarata\, Improvisation session
URL:https://www.tokyogigguide.com/index.php?option=com_jem&view=event&id=32
 371:sammy-jarata-inprovisation-session&Itemid=1094
END:VEVENT
END:VCALENDAR
