BEGIN:VCALENDAR
VERSION:2.0
PRODID:-//104.152.168.27//NONSGML kigkonsult.se iCalcreator 2.20//
CALSCALE:GREGORIAN
METHOD:PUBLISH
X-WR-TIMEZONE:Asia/Tokyo
BEGIN:VEVENT
UID:event32128@Tokyo Gig Guide
DTSTAMP:20260421T055159Z
CATEGORIES:Alternative\, Dream-pop\, Shoegaze
DESCRIPTION:ラブリーサマーちゃん (Lovely Summer Chan)\, 宇宙ネコ子 ふたりギターセット (uchu nekoko 
 - duo guitar set)\, fumi\, The Waterfalls\nCategory: Alternative\, Dream-p
 op\, Shoegaze\nLink: https://www.tokyogigguide.com/index.php?option=com_je
 m&view=event&id=32128:lovely-summer-chan-uchu-nekoko-duo-guitar-set-fumi-t
 he-waterfalls&Itemid=1094\n
DTSTART:20240811T173000
DTEND:20240811T173000
LOCATION:Basement Bar\,5-18-1-B1F\, Daizawa\, Setagaya-ku\,Shimokitazawa
SUMMARY:ラブリーサマーちゃん (Lovely Summer Chan)\, 宇宙ネコ子 ふたりギターセット (uchu nekoko - du
 o guitar set)\, fumi\, The Waterfalls
URL:https://www.tokyogigguide.com/index.php?option=com_jem&view=event&id=32
 128:lovely-summer-chan-uchu-nekoko-duo-guitar-set-fumi-the-waterfalls&Item
 id=1094
END:VEVENT
END:VCALENDAR
