BEGIN:VCALENDAR
VERSION:2.0
PRODID:-//104.152.168.27//NONSGML kigkonsult.se iCalcreator 2.20//
CALSCALE:GREGORIAN
METHOD:PUBLISH
X-WR-TIMEZONE:Asia/Tokyo
BEGIN:VEVENT
UID:event32018@Tokyo Gig Guide
DTSTAMP:20260422T093000Z
CATEGORIES:Blues\, Fusion\, Jam\, Soul
DESCRIPTION:Live & Jam Session\nCategory: Blues\, Fusion\, Jam\, Soul\nLink
 : https://www.tokyogigguide.com/index.php?option=com_jem&view=event&id=320
 18:live-jam-session&Itemid=1094\n
DTSTART:20240728T183000
DTEND:20240728T183000
LOCATION:Love\, Peace and Soul Live Cafe\,Parfum Kyodo B1-C 1-5-6 Kyodo\, S
 etagaya-ku\, Tokyo\,Kyodo
SUMMARY:Live & Jam Session
URL:https://www.tokyogigguide.com/index.php?option=com_jem&view=event&id=32
 018:live-jam-session&Itemid=1094
END:VEVENT
END:VCALENDAR
