BEGIN:VCALENDAR
VERSION:2.0
PRODID:-//104.152.168.27//NONSGML kigkonsult.se iCalcreator 2.20//
CALSCALE:GREGORIAN
METHOD:PUBLISH
X-WR-TIMEZONE:Asia/Tokyo
BEGIN:VEVENT
UID:event32008@Tokyo Gig Guide
DTSTAMP:20260424T181337Z
CATEGORIES:Blues\, Fusion\, Jam\, Soul
DESCRIPTION:DAREK Jackson Project Jam Session\nCategory: Blues\, Fusion\, J
 am\, Soul\nLink: https://www.tokyogigguide.com/index.php?option=com_jem&vi
 ew=event&id=32008:darek-jackson-project-jam-session&Itemid=1094\n
DTSTART:20240709T190000
DTEND:20240709T190000
LOCATION:Love\, Peace and Soul Live Cafe\,Parfum Kyodo B1-C 1-5-6 Kyodo\, S
 etagaya-ku\, Tokyo\,Kyodo
SUMMARY:DAREK Jackson Project Jam Session
URL:https://www.tokyogigguide.com/index.php?option=com_jem&view=event&id=32
 008:darek-jackson-project-jam-session&Itemid=1094
END:VEVENT
END:VCALENDAR
