BEGIN:VCALENDAR
VERSION:2.0
PRODID:-//104.152.168.27//NONSGML kigkonsult.se iCalcreator 2.20//
CALSCALE:GREGORIAN
METHOD:PUBLISH
X-WR-TIMEZONE:Asia/Tokyo
BEGIN:VEVENT
UID:event31919@Tokyo Gig Guide
DTSTAMP:20260422T234458Z
CATEGORIES:Shoegaze\, Dream-pop\, Alternative
DESCRIPTION:hail lain\, Hanao\, 2beef\, Mimi cries\, LOCO GROOVIN’\nCategor
 y: Shoegaze\, Dream-pop\, Alternative\nLink: https://www.tokyogigguide.com
 /index.php?option=com_jem&view=event&id=31919:hail-lain&Itemid=1094\n
DTSTART:20240724T180000
DTEND:20240724T180000
LOCATION:Daisy Bar\,Elsanto Kitazawa B1\, Kitazawa 2-2-3\, Setagaya-ku\,Shi
 mokitazawa
SUMMARY:hail lain\, Hanao\, 2beef\, Mimi cries\, LOCO GROOVIN’
URL:https://www.tokyogigguide.com/index.php?option=com_jem&view=event&id=31
 919:hail-lain&Itemid=1094
END:VEVENT
END:VCALENDAR
