BEGIN:VCALENDAR
VERSION:2.0
PRODID:-//104.152.168.27//NONSGML kigkonsult.se iCalcreator 2.20//
CALSCALE:GREGORIAN
METHOD:PUBLISH
X-WR-TIMEZONE:Asia/Tokyo
BEGIN:VEVENT
UID:event3189@Tokyo Gig Guide
DTSTAMP:20260421T113056Z
CATEGORIES:All Mix
DESCRIPTION:Bad Noise! Feat. Natasha Forrest\, Pinky Doodle Poodle\nCategor
 y: All Mix\nLink: https://www.tokyogigguide.com/index.php?option=com_jem&v
 iew=event&id=3189:bad-noise-feat-natasha-forrest-pinky-doodle-poodle&Itemi
 d=1094\n
DTSTART:20100724T193000
DTEND:20100724T193000
LOCATION:Ruby Room\,2F Kasumi Bldg\, Dogenzaka 2-25-17\, Shibuya\,Shibuya
SUMMARY:Bad Noise! Feat. Natasha Forrest\, Pinky Doodle Poodle
URL:https://www.tokyogigguide.com/index.php?option=com_jem&view=event&id=31
 89:bad-noise-feat-natasha-forrest-pinky-doodle-poodle&Itemid=1094
END:VEVENT
END:VCALENDAR
