BEGIN:VCALENDAR
VERSION:2.0
PRODID:-//104.152.168.27//NONSGML kigkonsult.se iCalcreator 2.20//
CALSCALE:GREGORIAN
METHOD:PUBLISH
X-WR-TIMEZONE:Asia/Tokyo
BEGIN:VEVENT
UID:event31857@Tokyo Gig Guide
DTSTAMP:20260420T135447Z
CATEGORIES:Acoustic\, Alternative\, Avant garde\, Folk
DESCRIPTION:Okamura Daiju\, Matsu‐Jun\, Ueno Kei\, Oomuro Tomoaki\, Nagai S
 aku\, Noda Misaki\nCategory: Acoustic\, Alternative\, Avant garde\, Folk\n
 Link: https://www.tokyogigguide.com/index.php?option=com_jem&view=event&id
 =31857:okamura-daiju-matsu-jun-ueno-kei-oomuro-tomoaki-nagai-saku-noda-mis
 aki&Itemid=1094\n
DTSTART:20240714T170000
DTEND:20240714T170000
LOCATION:Apocalypse Now\,Arakawa 1-31-7\, Arakawa-ku\, Tokyo\,Minowa
SUMMARY:Okamura Daiju\, Matsu‐Jun\, Ueno Kei\, Oomuro Tomoaki\, Nagai Saku\
 , Noda Misaki
URL:https://www.tokyogigguide.com/index.php?option=com_jem&view=event&id=31
 857:okamura-daiju-matsu-jun-ueno-kei-oomuro-tomoaki-nagai-saku-noda-misaki
 &Itemid=1094
END:VEVENT
END:VCALENDAR
