BEGIN:VCALENDAR
VERSION:2.0
PRODID:-//104.152.168.27//NONSGML kigkonsult.se iCalcreator 2.20//
CALSCALE:GREGORIAN
METHOD:PUBLISH
X-WR-TIMEZONE:Asia/Tokyo
BEGIN:VEVENT
UID:event31854@Tokyo Gig Guide
DTSTAMP:20260419T203709Z
CATEGORIES:Open Mic
DESCRIPTION:Open Mic 15 min\nCategory: Open Mic\nLink: https://www.tokyogig
 guide.com/index.php?option=com_jem&view=event&id=31854:open-mic-15min&Item
 id=1094\n
DTSTART:20240707T170000
DTEND:20240707T170000
LOCATION:Apocalypse Now\,Arakawa 1-31-7\, Arakawa-ku\, Tokyo\,Minowa
SUMMARY:Open Mic 15 min
URL:https://www.tokyogigguide.com/index.php?option=com_jem&view=event&id=31
 854:open-mic-15min&Itemid=1094
END:VEVENT
END:VCALENDAR
