BEGIN:VCALENDAR
VERSION:2.0
PRODID:-//104.152.168.27//NONSGML kigkonsult.se iCalcreator 2.20//
CALSCALE:GREGORIAN
METHOD:PUBLISH
X-WR-TIMEZONE:Asia/Tokyo
BEGIN:VEVENT
UID:event31779@Tokyo Gig Guide
DTSTAMP:20260425T220320Z
CATEGORIES:All Mix\, Blues\, Funk\, Fusion\, Jam\, Jazz\, Open Mic\, R n B\
 , Rock\, Soul
DESCRIPTION:Derek Short Groove Party / Open Mic / Jam Session \nCategory: A
 ll Mix\, Blues\, Funk\, Fusion\, Jam\, Jazz\, Open Mic\, R n B\, Rock\, So
 ul\nLink: https://www.tokyogigguide.com/index.php?option=com_jem&view=even
 t&id=31779:derek-short-groove-party-open-mic-jam-session&Itemid=1094\n
DTSTART:20240611T190000
DTEND:20240611T190000
LOCATION:Love\, Peace and Soul Live Cafe\,Parfum Kyodo B1-C 1-5-6 Kyodo\, S
 etagaya-ku\, Tokyo\,Kyodo
SUMMARY:Derek Short Groove Party / Open Mic / Jam Session 
URL:https://www.tokyogigguide.com/index.php?option=com_jem&view=event&id=31
 779:derek-short-groove-party-open-mic-jam-session&Itemid=1094
END:VEVENT
END:VCALENDAR
