BEGIN:VCALENDAR
VERSION:2.0
PRODID:-//104.152.168.27//NONSGML kigkonsult.se iCalcreator 2.20//
CALSCALE:GREGORIAN
METHOD:PUBLISH
X-WR-TIMEZONE:Asia/Tokyo
BEGIN:VEVENT
UID:event31771@Tokyo Gig Guide
DTSTAMP:20260420T154705Z
CATEGORIES:Blues\, Funk\, New Orleans\, R n B\, Soul
DESCRIPTION:FunkRaisers\nCategory: Blues\, Funk\, New Orleans\, R n B\, Sou
 l\nLink: https://www.tokyogigguide.com/index.php?option=com_jem&view=event
 &id=31771:funkraisers-live&Itemid=1094\n
DTSTART:20240622T190000
DTEND:20240622T190000
LOCATION:Love\, Peace and Soul Live Cafe\,Parfum Kyodo B1-C 1-5-6 Kyodo\, S
 etagaya-ku\, Tokyo\,Kyodo
SUMMARY:FunkRaisers
URL:https://www.tokyogigguide.com/index.php?option=com_jem&view=event&id=31
 771:funkraisers-live&Itemid=1094
END:VEVENT
END:VCALENDAR
