BEGIN:VCALENDAR
VERSION:2.0
PRODID:-//104.152.168.27//NONSGML kigkonsult.se iCalcreator 2.20//
CALSCALE:GREGORIAN
METHOD:PUBLISH
X-WR-TIMEZONE:Asia/Tokyo
BEGIN:VEVENT
UID:event31764@Tokyo Gig Guide
DTSTAMP:20260421T181332Z
CATEGORIES:Blues\, Funk\, Pop\, Rock\, Soul
DESCRIPTION:Love & Peace Band Live\nCategory: Blues\, Funk\, Pop\, Rock\, S
 oul\nLink: https://www.tokyogigguide.com/index.php?option=com_jem&view=eve
 nt&id=31764:love-peace-band-live&Itemid=1094\n
DTSTART:20240608T190000
DTEND:20240608T190000
LOCATION:Love\, Peace and Soul Live Cafe\,Parfum Kyodo B1-C 1-5-6 Kyodo\, S
 etagaya-ku\, Tokyo\,Kyodo
SUMMARY:Love & Peace Band Live
URL:https://www.tokyogigguide.com/index.php?option=com_jem&view=event&id=31
 764:love-peace-band-live&Itemid=1094
END:VEVENT
END:VCALENDAR
