BEGIN:VCALENDAR
VERSION:2.0
PRODID:-//104.152.168.27//NONSGML kigkonsult.se iCalcreator 2.20//
CALSCALE:GREGORIAN
METHOD:PUBLISH
X-WR-TIMEZONE:Asia/Tokyo
BEGIN:VEVENT
UID:event31763@Tokyo Gig Guide
DTSTAMP:20260421T114343Z
CATEGORIES:Blues\, Jam\, Open Mic
DESCRIPTION:Blues Jam Session w/Chris & Darek \nCategory: Blues\, Jam\, Ope
 n Mic\nLink: https://www.tokyogigguide.com/index.php?option=com_jem&view=e
 vent&id=31763:blues-jam-session-w-chris-darek&Itemid=1094\n
DTSTART:20240607T190000
DTEND:20240607T190000
LOCATION:Love\, Peace and Soul Live Cafe\,Parfum Kyodo B1-C 1-5-6 Kyodo\, S
 etagaya-ku\, Tokyo\,Kyodo
SUMMARY:Blues Jam Session w/Chris & Darek 
URL:https://www.tokyogigguide.com/index.php?option=com_jem&view=event&id=31
 763:blues-jam-session-w-chris-darek&Itemid=1094
END:VEVENT
END:VCALENDAR
