BEGIN:VCALENDAR
VERSION:2.0
PRODID:-//104.152.168.27//NONSGML kigkonsult.se iCalcreator 2.20//
CALSCALE:GREGORIAN
METHOD:PUBLISH
X-WR-TIMEZONE:Asia/Tokyo
BEGIN:VEVENT
UID:event31672@Tokyo Gig Guide
DTSTAMP:20260419T174959Z
CATEGORIES:Acoustic\, Alternative\, Noise\, Performance
DESCRIPTION:Kazumi & MazerunaKiken\, Juda & Bar Man\, Otodamakoubou\, more
 \nCategory: Acoustic\, Alternative\, Noise\, Performance\nLink: https://ww
 w.tokyogigguide.com/index.php?option=com_jem&view=event&id=31672:light-and
 -shadow-vol-18&Itemid=1094\n
DTSTART:20240620T170000
DTEND:20240620T170000
LOCATION:Apocalypse Now\,Arakawa 1-31-7\, Arakawa-ku\, Tokyo\,Minowa
SUMMARY:Kazumi & MazerunaKiken\, Juda & Bar Man\, Otodamakoubou\, more
URL:https://www.tokyogigguide.com/index.php?option=com_jem&view=event&id=31
 672:light-and-shadow-vol-18&Itemid=1094
END:VEVENT
END:VCALENDAR
