BEGIN:VCALENDAR
VERSION:2.0
PRODID:-//104.152.168.27//NONSGML kigkonsult.se iCalcreator 2.20//
CALSCALE:GREGORIAN
METHOD:PUBLISH
X-WR-TIMEZONE:Asia/Tokyo
BEGIN:VEVENT
UID:event31663@Tokyo Gig Guide
DTSTAMP:20260421T081337Z
CATEGORIES:Blues\, Electronic\, Experimental\, Instrumental
DESCRIPTION:MAI MAO x Yu Ogu\, Akio Jeimus x Mayu Amano\, circoli x kentaro
  nagata\nCategory: Blues\, Electronic\, Experimental\, Instrumental\nLink:
  https://www.tokyogigguide.com/index.php?option=com_jem&view=event&id=3166
 3:mai-mao-x-yu-ogu-akio-jeimus-x-mayu-amano-circoli-x-kentaro-nagata&Itemi
 d=1094\n
DTSTART:20240630T120000
DTEND:20240630T120000
LOCATION:POLARIS\,6-2-10 Minami-Aoyama\, Minato-ku\, Tokyo\,Minami-Aoyama
SUMMARY:MAI MAO x Yu Ogu\, Akio Jeimus x Mayu Amano\, circoli x kentaro nag
 ata
URL:https://www.tokyogigguide.com/index.php?option=com_jem&view=event&id=31
 663:mai-mao-x-yu-ogu-akio-jeimus-x-mayu-amano-circoli-x-kentaro-nagata&Ite
 mid=1094
END:VEVENT
END:VCALENDAR
