BEGIN:VCALENDAR
VERSION:2.0
PRODID:-//104.152.168.27//NONSGML kigkonsult.se iCalcreator 2.20//
CALSCALE:GREGORIAN
METHOD:PUBLISH
X-WR-TIMEZONE:Asia/Tokyo
BEGIN:VEVENT
UID:event31660@Tokyo Gig Guide
DTSTAMP:20260420T042112Z
CATEGORIES:Ambient\, Blues\, Electronic\, Noise
DESCRIPTION:Armen Nalbandian (pf)\, poketto [Kei Matsumaru (as\, ss)\, Riki
  Hidaka (gt)\, Tatsuhisa Yamamoto (ds)]\nCategory: Ambient\, Blues\, Elect
 ronic\, Noise\nLink: https://www.tokyogigguide.com/index.php?option=com_je
 m&view=event&id=31660:armen-nalbandian-pf-poketto-kei-matsumaru-as-ss-riki
 -hidaka-gt-tatsuhisa-yamamoto-ds&Itemid=1094\n
DTSTART:20240627T193000
DTEND:20240627T193000
LOCATION:POLARIS\,6-2-10 Minami-Aoyama\, Minato-ku\, Tokyo\,Minami-Aoyama
SUMMARY:Armen Nalbandian (pf)\, poketto [Kei Matsumaru (as\, ss)\, Riki Hid
 aka (gt)\, Tatsuhisa Yamamoto (ds)]
URL:https://www.tokyogigguide.com/index.php?option=com_jem&view=event&id=31
 660:armen-nalbandian-pf-poketto-kei-matsumaru-as-ss-riki-hidaka-gt-tatsuhi
 sa-yamamoto-ds&Itemid=1094
END:VEVENT
END:VCALENDAR
