BEGIN:VCALENDAR
VERSION:2.0
PRODID:-//104.152.168.27//NONSGML kigkonsult.se iCalcreator 2.20//
CALSCALE:GREGORIAN
METHOD:PUBLISH
X-WR-TIMEZONE:Asia/Tokyo
BEGIN:VEVENT
UID:event31652@Tokyo Gig Guide
DTSTAMP:20260424T231745Z
CATEGORIES:Alternative\, Experimental\, Folk\, Rock n Roll\, Soul
DESCRIPTION: 田渕ひさ子 (G\, Vo)\, トンカツ (G\, Vo)\nCategory: Alternative\, Experi
 mental\, Folk\, Rock n Roll\, Soul\nLink: https://www.tokyogigguide.com/in
 dex.php?option=com_jem&view=event&id=31652:g-vo-panicsmile-uiiin-ex-easter
 n-youth-g-vo&Itemid=1094\n
DTSTART:20240616T180000
DTEND:20240616T180000
LOCATION:POLARIS\,6-2-10 Minami-Aoyama\, Minato-ku\, Tokyo\,Minami-Aoyama
SUMMARY: 田渕ひさ子 (G\, Vo)\, トンカツ (G\, Vo)
URL:https://www.tokyogigguide.com/index.php?option=com_jem&view=event&id=31
 652:g-vo-panicsmile-uiiin-ex-eastern-youth-g-vo&Itemid=1094
END:VEVENT
END:VCALENDAR
