BEGIN:VCALENDAR
VERSION:2.0
PRODID:-//104.152.168.27//NONSGML kigkonsult.se iCalcreator 2.20//
CALSCALE:GREGORIAN
METHOD:PUBLISH
X-WR-TIMEZONE:Asia/Tokyo
BEGIN:VEVENT
UID:event31647@Tokyo Gig Guide
DTSTAMP:20260424T152254Z
CATEGORIES:Alternative\, Blues\, Electronic\, Instrumental
DESCRIPTION:勝井祐二 (electric violin) + ナカコー (guitar\, electronics) + 沼澤尚 (dru
 ms)\nCategory: Alternative\, Blues\, Electronic\, Instrumental\nLink: http
 s://www.tokyogigguide.com/index.php?option=com_jem&view=event&id=31647:ele
 ctric-violin-guitar-electronics-drums&Itemid=1094\n
DTSTART:20240610T190000
DTEND:20240610T190000
LOCATION:POLARIS\,6-2-10 Minami-Aoyama\, Minato-ku\, Tokyo\,Minami-Aoyama
SUMMARY:勝井祐二 (electric violin) + ナカコー (guitar\, electronics) + 沼澤尚 (drums)
URL:https://www.tokyogigguide.com/index.php?option=com_jem&view=event&id=31
 647:electric-violin-guitar-electronics-drums&Itemid=1094
END:VEVENT
END:VCALENDAR
