BEGIN:VCALENDAR
VERSION:2.0
PRODID:-//104.152.168.27//NONSGML kigkonsult.se iCalcreator 2.20//
CALSCALE:GREGORIAN
METHOD:PUBLISH
X-WR-TIMEZONE:Asia/Tokyo
BEGIN:VEVENT
UID:event31646@Tokyo Gig Guide
DTSTAMP:20260424T031259Z
CATEGORIES:Alternative\, Avant garde\, Blues\, Classical\, Festival
DESCRIPTION:ブラックベルベッツ: 田中邦和 (saxophone)\, 山口とも (percussion)\, ヲノサトル (organ)
 \, テラシィイ (guitar)\nCategory: Alternative\, Avant garde\, Blues\, Classical
 \, Festival\nLink: https://www.tokyogigguide.com/index.php?option=com_jem&
 view=event&id=31646:saxophone-percussion-organ-guitar&Itemid=1094\n
DTSTART:20240609T173000
DTEND:20240609T173000
LOCATION:POLARIS\,6-2-10 Minami-Aoyama\, Minato-ku\, Tokyo\,Minami-Aoyama
SUMMARY:ブラックベルベッツ: 田中邦和 (saxophone)\, 山口とも (percussion)\, ヲノサトル (organ)\, テ
 ラシィイ (guitar)
URL:https://www.tokyogigguide.com/index.php?option=com_jem&view=event&id=31
 646:saxophone-percussion-organ-guitar&Itemid=1094
END:VEVENT
END:VCALENDAR
