BEGIN:VCALENDAR
VERSION:2.0
PRODID:-//104.152.168.27//NONSGML kigkonsult.se iCalcreator 2.20//
CALSCALE:GREGORIAN
METHOD:PUBLISH
X-WR-TIMEZONE:Asia/Tokyo
BEGIN:VEVENT
UID:event31632@Tokyo Gig Guide
DTSTAMP:20260425T132306Z
CATEGORIES:Indie-Rock\, Rock\, Rock n Roll
DESCRIPTION:Yoru No Strangers\, HOWLIN' HACHIMA\, CHIE HORIGUCHI (LEARNERS)
 \, Yuyakeshiwasu & すうらばあず  (Swlabr's)\nCategory: Indie-Rock\, Rock\, Rock 
 n Roll\nLink: https://www.tokyogigguide.com/index.php?option=com_jem&view=
 event&id=31632:yoru-no-strangers-howlin-hachima-chie-horiguchi-learners-yu
 yakeshiwasu-swlabr-s&Itemid=1094\n
DTSTART:20240717T183000
DTEND:20240717T183000
LOCATION:TOP BEAT CLUB\,1-15-1\, Shimizu\, Suginami-ku\, Tokyo\,Ogikubo
SUMMARY:Yoru No Strangers\, HOWLIN' HACHIMA\, CHIE HORIGUCHI (LEARNERS)\, Y
 uyakeshiwasu & すうらばあず  (Swlabr's)
URL:https://www.tokyogigguide.com/index.php?option=com_jem&view=event&id=31
 632:yoru-no-strangers-howlin-hachima-chie-horiguchi-learners-yuyakeshiwasu
 -swlabr-s&Itemid=1094
END:VEVENT
END:VCALENDAR
