BEGIN:VCALENDAR
VERSION:2.0
PRODID:-//104.152.168.27//NONSGML kigkonsult.se iCalcreator 2.20//
CALSCALE:GREGORIAN
METHOD:PUBLISH
X-WR-TIMEZONE:Asia/Tokyo
BEGIN:VEVENT
UID:event31629@Tokyo Gig Guide
DTSTAMP:20260421T115029Z
CATEGORIES:Indie-Rock\, Punk\, Rock\, Rock n Roll
DESCRIPTION:POLYSICS\, Dresscodes\nCategory: Indie-Rock\, Punk\, Rock\, Roc
 k n Roll\nLink: https://www.tokyogigguide.com/index.php?option=com_jem&vie
 w=event&id=31629:polysics-and-more-tba&Itemid=1094\n
DTSTART:20240714T171500
DTEND:20240714T171500
LOCATION:TOP BEAT CLUB\,1-15-1\, Shimizu\, Suginami-ku\, Tokyo\,Ogikubo
SUMMARY:POLYSICS\, Dresscodes
URL:https://www.tokyogigguide.com/index.php?option=com_jem&view=event&id=31
 629:polysics-and-more-tba&Itemid=1094
END:VEVENT
END:VCALENDAR
