BEGIN:VCALENDAR
VERSION:2.0
PRODID:-//104.152.168.27//NONSGML kigkonsult.se iCalcreator 2.20//
CALSCALE:GREGORIAN
METHOD:PUBLISH
X-WR-TIMEZONE:Asia/Tokyo
BEGIN:VEVENT
UID:event31628@Tokyo Gig Guide
DTSTAMP:20260422T231803Z
CATEGORIES:Indie-Rock\, Rock\, Rock n Roll
DESCRIPTION:SHOTGUN RUNNERS\, THE BUNNIES\, THE OUTS\, The Mighty Moguls\nC
 ategory: Indie-Rock\, Rock\, Rock n Roll\nLink: https://www.tokyogigguide.
 com/index.php?option=com_jem&view=event&id=31628:shotgun-runners-the-bunni
 es-the-outs-the-mighty-moguls&Itemid=1094\n
DTSTART:20240713T180000
DTEND:20240713T180000
LOCATION:TOP BEAT CLUB\,1-15-1\, Shimizu\, Suginami-ku\, Tokyo\,Ogikubo
SUMMARY:SHOTGUN RUNNERS\, THE BUNNIES\, THE OUTS\, The Mighty Moguls
URL:https://www.tokyogigguide.com/index.php?option=com_jem&view=event&id=31
 628:shotgun-runners-the-bunnies-the-outs-the-mighty-moguls&Itemid=1094
END:VEVENT
END:VCALENDAR
