BEGIN:VCALENDAR
VERSION:2.0
PRODID:-//104.152.168.27//NONSGML kigkonsult.se iCalcreator 2.20//
CALSCALE:GREGORIAN
METHOD:PUBLISH
X-WR-TIMEZONE:Asia/Tokyo
BEGIN:VEVENT
UID:event31614@Tokyo Gig Guide
DTSTAMP:20260420T042513Z
CATEGORIES:Noise\, Improvised\, Experimental\, Avant garde\, Ambient
DESCRIPTION:4 Stories about Guitars: Cato\, Nira\, Masafumi Teruyama\, Yumi
 ko Yoshimoto\nCategory: Noise\, Improvised\, Experimental\, Avant garde\, 
 Ambient\nLink: https://www.tokyogigguide.com/index.php?option=com_jem&view
 =event&id=31614:4-stories-about-guitars-cato-nira-masafumi-teruyama-yumiko
 -yoshimoto&Itemid=1094\n
DTSTART:20240628T184500
DTEND:20240628T184500
LOCATION:Oriental Force\,#8 Nitto Build. B1\, Koenji-Minami 3-38-6\,Koenji
SUMMARY:4 Stories about Guitars: Cato\, Nira\, Masafumi Teruyama\, Yumiko Y
 oshimoto
URL:https://www.tokyogigguide.com/index.php?option=com_jem&view=event&id=31
 614:4-stories-about-guitars-cato-nira-masafumi-teruyama-yumiko-yoshimoto&I
 temid=1094
END:VEVENT
END:VCALENDAR
