BEGIN:VCALENDAR
VERSION:2.0
PRODID:-//104.152.168.27//NONSGML kigkonsult.se iCalcreator 2.20//
CALSCALE:GREGORIAN
METHOD:PUBLISH
X-WR-TIMEZONE:Asia/Tokyo
BEGIN:VEVENT
UID:event31548@Tokyo Gig Guide
DTSTAMP:20260419T172430Z
CATEGORIES:Acoustic\, Avant garde\, Experimental\, Improvised
DESCRIPTION:MazerunaKiken\, Bar Man\, Kubota Daisuke\, Koseki Oikawa\, Ikir
 e\, more\nCategory: Acoustic\, Avant garde\, Experimental\, Improvised\nLi
 nk: https://www.tokyogigguide.com/index.php?option=com_jem&view=event&id=3
 1548:mazerunakiken-bar-man-kubota-daisuke-and-more&Itemid=1094\n
DTSTART:20240618T170000
DTEND:20240618T170000
LOCATION:Apocalypse Now\,Arakawa 1-31-7\, Arakawa-ku\, Tokyo\,Minowa
SUMMARY:MazerunaKiken\, Bar Man\, Kubota Daisuke\, Koseki Oikawa\, Ikire\, 
 more
URL:https://www.tokyogigguide.com/index.php?option=com_jem&view=event&id=31
 548:mazerunakiken-bar-man-kubota-daisuke-and-more&Itemid=1094
END:VEVENT
END:VCALENDAR
